BEGIN:VCALENDAR
VERSION:2.0
PRODID:-//eventon.com NONSGML v1.0//EN
CALSCALE:GREGORIAN
METHOD:PUBLISH
BEGIN:VEVENT
UID:69e77b4942d61
DTSTAMP:20260421T132737Z
DTSTART:20241005T163000Z
DTEND:20241005T170000Z
LOCATION:Studio del Principe
SUMMARY:"Letture lente ad alta voce"
DESCRIPTION:&#8220;Letture lente ad alta voce&#8221; a cura del Gruppo “S
 eDiciParole”\nhttps://www.libriincantina.it/events/letture-lente-ad-alta-
 voce/
URL:https://www.libriincantina.it/events/letture-lente-ad-alta-voce/
END:VEVENT
END:VCALENDAR