BEGIN:VCALENDAR
VERSION:2.0
PRODID:-//eventon.com NONSGML v1.0//EN
CALSCALE:GREGORIAN
METHOD:PUBLISH
BEGIN:VEVENT
UID:69e76626b9516
DTSTAMP:20260421T115726Z
DTSTART:20241005T133000Z
DTEND:20241005T143000Z
LOCATION:Studio del Principe
SUMMARY:"Trame d'inchiostro" di Rossana Guerrera
DESCRIPTION:Presentazione di Trame d&#8217;inchiostro di Rossana Guerrera.
  Dialoga con l&#8217;autrice\,  Leonardo Ancona\,  scrittore e curatore edi
 toriale Le parole di Rossana Guerrera sono un viaggio emozionale. La sua pe
 nna\,  come un pennello\,  crea immagini vive e intense\,  guidandoci in un
 a mostra di strofe in cui la parola diventa arte. Le poesie sono[..]\nhttps
 ://www.libriincantina.it/events/trame-dinchiostro-di-rossana-guerrera/
URL:https://www.libriincantina.it/events/trame-dinchiostro-di-rossana-guerrera/
END:VEVENT
END:VCALENDAR