BEGIN:VCALENDAR
VERSION:2.0
PRODID:-//eventon.com NONSGML v1.0//EN
CALSCALE:GREGORIAN
METHOD:PUBLISH
BEGIN:VEVENT
UID:69e7664b7ad3a
DTSTAMP:20260421T115803Z
DTSTART:20241006T130000Z
DTEND:20241006T133000Z
LOCATION:Corte interna del Castello
SUMMARY:Salotto letterario – “Cedi la strada degli alberi” di Franco Arminio
DESCRIPTION:Domenica 6 ottobre alle 15\,  all’interno di Libri in Cantina
 \,  il &#8220;Salotto letterario&#8221; del gruppo di lettura animato da Ve
 ra Salton si riunisce in Castello San Salvatore per leggere e commentare as
 sieme il libro di Franco Arminio\,  Cedi la strada degli alberi (Chiarelett
 ere): lo scrittore sarà ospite della manifestazione in[..]\nhttps://www.li
 briincantina.it/events/salotto-letterario-cedi-la-strada-degli-alberi-di-fr
 anco-arminio/
URL:https://www.libriincantina.it/events/salotto-letterario-cedi-la-strada-degli-alberi-di-franco-arminio/
END:VEVENT
END:VCALENDAR