BEGIN:VCALENDAR
VERSION:2.0
PRODID:-//eventon.com NONSGML v1.0//EN
CALSCALE:GREGORIAN
METHOD:PUBLISH
BEGIN:VEVENT
UID:69e76523d762b
DTSTAMP:20260421T115307Z
DTSTART:20241005T083000Z
DTEND:20241005T093000Z
LOCATION:Sala della Biblioteca
SUMMARY:Premiazione concorso nazionale di poesia “Vent’anni di libri in cantina”
DESCRIPTION:Premiazione del Concorso nazionale di Poesia indetto dall’Ass
 ociazione Progetto TeatroXtutti in collaborazione con il Comune di Susegana
  per celebrare la ventesima edizione della manifestazione Libri In Cantina.
  Durante la premiazione le poesie prescelte dalla giuria saranno declamate 
 dagli attori dell’Associazione Progetto TeatroXtutti. Trovate il bando in
  questa pagina.\nhttps://www.libriincantina.it/events/premiazione-concorso-
 nazionale-di-poesia-ventanni-di-libri-in-cantina/
URL:https://www.libriincantina.it/events/premiazione-concorso-nazionale-di-poesia-ventanni-di-libri-in-cantina/
END:VEVENT
END:VCALENDAR