BEGIN:VCALENDAR
VERSION:2.0
PRODID:-//eventon.com NONSGML v1.0//EN
CALSCALE:GREGORIAN
METHOD:PUBLISH
BEGIN:VEVENT
UID:69e765f180210
DTSTAMP:20260421T115633Z
DTSTART:20241006T070000Z
DTEND:20241006T080000Z
LOCATION:Terrazza del belvedere Via San Salvatore\,  Susegana
SUMMARY:Associazione CuoriDILUCE\,  "Yoga\,  sintonizzarsi in armonia"
DESCRIPTION:Incontro Esperienziale per ampliare la percezione di se stessi 
 a cura di Associazione CuoriDILUCE. Lo Yoga ed il suono delle campane\,  ac
 compagnano l’individuo nel proprio sentire facilitando cosi la calma\,  l
 ’attenzione e l’equilibrio. Il tutto orientato al riprendere la propria
  stabilità e centratura per vivere una vita in armonia con[..]\nhttps://ww
 w.libriincantina.it/events/associazione-cuoridiluce-yoga-sintonizzarsi-in-a
 rmonia/
URL:https://www.libriincantina.it/events/associazione-cuoridiluce-yoga-sintonizzarsi-in-armonia/
END:VEVENT
END:VCALENDAR