BEGIN:VCALENDAR
VERSION:2.0
PRODID:-//eventon.com NONSGML v1.0//EN
CALSCALE:GREGORIAN
METHOD:PUBLISH
BEGIN:VEVENT
UID:69e76580d2d21
DTSTAMP:20260421T115440Z
DTSTART:20241005T083000Z
DTEND:20241006T163000Z
LOCATION:Corte interna del Castello
SUMMARY:Arte a crochet
DESCRIPTION:Arte a crochet a cura del Gruppo “Ai ferri corti”\nhttps://
 www.libriincantina.it/events/arte-a-crochet/
URL:https://www.libriincantina.it/events/arte-a-crochet/
END:VEVENT
END:VCALENDAR