BEGIN:VCALENDAR
VERSION:2.0
PRODID:-//eventon.com NONSGML v1.0//EN
CALSCALE:GREGORIAN
METHOD:PUBLISH
BEGIN:VEVENT
UID:69e76660d568f
DTSTAMP:20260421T115824Z
DTSTART:20241005T083000Z
DTEND:20241006T163000Z
LOCATION:Corte interna del Castello
SUMMARY:“Letture lente ad alta voce”
DESCRIPTION:Interventi lenti a cura del Gruppo “SeDiciParole”\nhttps://
 www.libriincantina.it/events/interventi-lenti/
URL:https://www.libriincantina.it/events/interventi-lenti/
END:VEVENT
END:VCALENDAR