BEGIN:VCALENDAR
VERSION:2.0
PRODID:-//eventon.com NONSGML v1.0//EN
CALSCALE:GREGORIAN
METHOD:PUBLISH
BEGIN:VEVENT
UID:69e7662b0a360
DTSTAMP:20260421T115731Z
DTSTART:20241005T083000Z
DTEND:20241006T163000Z
LOCATION:Terrazza del leccio
SUMMARY:Paolo Zanarella\,  il pianista fuori posto
DESCRIPTION:Nel cuore della città il 14 Agosto 2009 Paolo Zanarella scaric
 a per la prima volta dal furgone il suo pianoforte a coda e nel più sugges
 tivo silenzio inizia a suonare. Inaspettato. Nessun avviso. Cittadini\,  pa
 ssanti e turisti si guardano sorpresi; i cuori si aprono\,  gli sguardi si 
 incontrano\,  le anime[..]\nhttps://www.libriincantina.it/events/paolo-zana
 rella-il-pianista-fuori-posto/
URL:https://www.libriincantina.it/events/paolo-zanarella-il-pianista-fuori-posto/
END:VEVENT
END:VCALENDAR