BEGIN:VCALENDAR
VERSION:2.0
PRODID:-//eventon.com NONSGML v1.0//EN
CALSCALE:GREGORIAN
METHOD:PUBLISH
BEGIN:VEVENT
UID:69e765c59fe8c
DTSTAMP:20260421T115549Z
DTSTART:20241005T153000Z
DTEND:20241005T170000Z
LOCATION:Terrazza degli archi
SUMMARY:Progetto Teatro x Tutti\,  "La terrazza del Sogno"
DESCRIPTION:Interventi teatrali tratti dal Sogno di una notte di mezza esta
 te di William Shakespeare\,  con gli allievi del corso di teatro ‘Giovani
 -Avanzato’\,  a cura della Compagnia Progetto Teatro X Tutti. “Il tempo
  è molto lento per chi aspetta\,  molto veloce per chi ha paura\,  molto l
 ungo per chi si lamenta\, [..]\nhttps://www.libriincantina.it/events/proget
 to-teatro-x-tutti-la-terrazza-del-sogno-sabato/
URL:https://www.libriincantina.it/events/progetto-teatro-x-tutti-la-terrazza-del-sogno-sabato/
END:VEVENT
END:VCALENDAR