BEGIN:VCALENDAR
VERSION:2.0
PRODID:-//eventon.com NONSGML v1.0//EN
CALSCALE:GREGORIAN
METHOD:PUBLISH
BEGIN:VEVENT
UID:69e7658e39617
DTSTAMP:20260421T115454Z
DTSTART:20241006T143000Z
DTEND:20241006T160000Z
LOCATION:Terrazza degli archi
SUMMARY:Progetto Teatro x Tutti\,  "La terrazza del Sogno"
DESCRIPTION:Interventi teatrali tratti dal Sogno di una notte di mezza esta
 te di William Shakespeare\,  con gli allievi del corso di teatro ‘Giovani
 -Avanzato’\,  a cura della Compagnia Progetto Teatro X Tutti. “Il tempo
  è molto lento per chi aspetta\,  molto veloce per chi ha paura\,  molto l
 ungo per chi si lamenta\, [..]\nhttps://www.libriincantina.it/events/proget
 to-teatro-x-tutti-la-terrazza-del-sogno-domenica/
URL:https://www.libriincantina.it/events/progetto-teatro-x-tutti-la-terrazza-del-sogno-domenica/
END:VEVENT
END:VCALENDAR