BEGIN:VCALENDAR
VERSION:2.0
PRODID:-//eventon.com NONSGML v1.0//EN
CALSCALE:GREGORIAN
METHOD:PUBLISH
BEGIN:VEVENT
UID:69e766f939a4c
DTSTAMP:20260421T120057Z
DTSTART:20241006T090000Z
DTEND:20241006T093000Z
LOCATION:Terrazza degli archi
SUMMARY:Associazione Maga Camaja\,  "C’era una volta il raccontastorie. Storie a testa in giù"
DESCRIPTION:C’era una volta il raccontastorie. Storie a testa in giù\,  
 teatro di narrazione con oggetti di scena\,  di e con Carlo Corsini Tante s
 torie esilaranti uscite dalla penna dei più noti e affermati autori per ra
 gazzi. Incontreremo: &#8220;La donnina piccina picciò&#8221;\,  &#8220;Il 
 lupo mangia tutto&#8221;\,  &#8220;Quattro animali e un buco&#8221;\, [..]\
 nhttps://www.libriincantina.it/events/associazione-maga-camaja-cera-una-vol
 ta-il-raccontastorie-storie-a-testa-in-giu/
URL:https://www.libriincantina.it/events/associazione-maga-camaja-cera-una-volta-il-raccontastorie-storie-a-testa-in-giu/
END:VEVENT
END:VCALENDAR