BEGIN:VCALENDAR
VERSION:2.0
PRODID:-//eventon.com NONSGML v1.0//EN
CALSCALE:GREGORIAN
METHOD:PUBLISH
BEGIN:VEVENT
UID:69e766ef528a9
DTSTAMP:20260421T120047Z
DTSTART:20241005T140000Z
DTEND:20241005T143000Z
LOCATION:Terrazza degli archi
SUMMARY:Compagnia “I Burattini Aldrighi”\,  "Meneghino in Cuccagna"
DESCRIPTION:Spettacolo Meneghino in Cuccagna della Compagnia “I Burattini
  Aldrighi” di Valerio Saccà Mario e Dario\,  due fratelli senza scrupoli
 \,  chiedono aiuto a Brighella per fare uno scherzo a Meneghino. Con un vin
 o truccato porteranno Meneghino nel mondo magico di Cuccagna\,  un paese pi
 eno di leccornie in ogni dove\,  strade di[..]\nhttps://www.libriincantina.
 it/events/compagnia-i-burattini-aldrighi-meneghino-in-cuccagna/
URL:https://www.libriincantina.it/events/compagnia-i-burattini-aldrighi-meneghino-in-cuccagna/
END:VEVENT
END:VCALENDAR