BEGIN:VCALENDAR
VERSION:2.0
PRODID:-//eventon.com NONSGML v1.0//EN
CALSCALE:GREGORIAN
METHOD:PUBLISH
BEGIN:VEVENT
UID:69e77d65e7425
DTSTAMP:20260421T133637Z
DTSTART:20241005T090000Z
DTEND:20241005T093000Z
LOCATION:Terrazza degli archi
SUMMARY:Compagnia “I Burattini Aldrighi”\,  "Meneghino all’Inferno"
DESCRIPTION:Spettacolo Meneghino all’Inferno della Compagnia “I Buratti
 ni Aldrighi” di Valerio Saccà Proprio mentre la Cecca si lamenta con Men
 eghino\,  perché va sempre in osteria invece che lavorare\,  un giovane bu
 ssa alla porta. Il giovane è il commendator Ferravilla\,  che chiede aiuto
  al nostro eroe\,  perché ogni notte nel suo palazzo\, [..]\nhttps://www.l
 ibriincantina.it/events/compagnia-i-burattini-aldrighi-meneghino-allinferno
 /
URL:https://www.libriincantina.it/events/compagnia-i-burattini-aldrighi-meneghino-allinferno/
END:VEVENT
END:VCALENDAR