BEGIN:VCALENDAR
VERSION:2.0
PRODID:-//eventon.com NONSGML v1.0//EN
CALSCALE:GREGORIAN
METHOD:PUBLISH
BEGIN:VEVENT
UID:69e77adfc3967
DTSTAMP:20260421T132551Z
DTSTART:20241006T073000Z
DTEND:20241006T100000Z
LOCATION:territorio
SUMMARY:Passi e libri sulle colline di Collalto\,  passeggiata di NaturalMenteGuide
DESCRIPTION:In occasione di &#8220;Libri in cantina&#8221; vi porteremo all
 a scoperta dei meravigliosi paesaggi attorno al Castello di San Salvatore. 
 Il percorso si snoda tra prati\,  vigneti e boschi nelle dolci colline del 
 territorio comunale di Susegana. Un alternarsi di ambienti molto diversi tr
 a loro che permetteranno di parlare di flora\, [..]\nhttps://www.libriincan
 tina.it/events/passi-e-libri-sulle-colline-di-collalto-passeggiata-di-natur
 almenteguide/
URL:https://www.libriincantina.it/events/passi-e-libri-sulle-colline-di-collalto-passeggiata-di-naturalmenteguide/
END:VEVENT
END:VCALENDAR