BEGIN:VCALENDAR
VERSION:2.0
PRODID:-//eventon.com NONSGML v1.0//EN
CALSCALE:GREGORIAN
METHOD:PUBLISH
BEGIN:VEVENT
UID:69e76525895b0
DTSTAMP:20260421T115309Z
DTSTART:20241004T190000Z
DTEND:20241006T163000Z
LOCATION:Chiesa del Carmine
SUMMARY:Mostra di Giani Sartor "Lentamente con materiali diversi"
DESCRIPTION:Allestimento artistico di Giani Sartor\,  Lentamente con materi
 ali diversi.\nhttps://www.libriincantina.it/events/mostra-di-giani-sartor-l
 entamente-con-materiali-diversi/
URL:https://www.libriincantina.it/events/mostra-di-giani-sartor-lentamente-con-materiali-diversi/
END:VEVENT
END:VCALENDAR