BEGIN:VCALENDAR
VERSION:2.0
PRODID:-//eventon.com NONSGML v1.0//EN
CALSCALE:GREGORIAN
METHOD:PUBLISH
BEGIN:VEVENT
UID:69e76714030d3
DTSTAMP:20260421T120124Z
DTSTART:20241005T090000Z
DTEND:20241006T163000Z
LOCATION:Castello San Salvatore Via San Salvatore\,  Susegana
SUMMARY:Mostra di ArcheoSusegana Photo Group "Lentamente"
DESCRIPTION:Mostra fotografica di ArcheoSusegana Photo Group sul tema della
  manifestazione di quest&#8217;anno: Lentamente. Esposizione diffusa nelle 
 sale del Castello a cornice degli editori espositori presenti. Una fotograf
 ia\,  meglio se stampata\,  invita a fermarsi\,  a osservare con attenzione
  ogni singolo particolare\,  ogni dettaglio utile a interpretare l’immagi
 ne. Una fotografia\,  meglio se[..]\nhttps://www.libriincantina.it/events/m
 ostra-di-archeosusegana-photo-group-lentamente/
URL:https://www.libriincantina.it/events/mostra-di-archeosusegana-photo-group-lentamente/
END:VEVENT
END:VCALENDAR