BEGIN:VCALENDAR
VERSION:2.0
PRODID:-//eventon.com NONSGML v1.0//EN
CALSCALE:GREGORIAN
METHOD:PUBLISH
BEGIN:VEVENT
UID:69e765f26781e
DTSTAMP:20260421T115634Z
DTSTART:20241006T170000Z
DTEND:20241006T180000Z
LOCATION:Cantine Collalto Via 24 maggio 1
SUMMARY:Teatro dei pazzi\,  "Ode all’ebbrezza e al vino"
DESCRIPTION:Teatro dei pazzi mettono in scena l&#8217;Ode all’ebbrezza e 
 al vino\,  spettacolo e aperitivo di chiusura Libri in Cantina. “Ode all
 ebbrezza e al vino” nasce per celebrare uno dei frutti più amati e pre
 ziosi della nostra terra\,  il vino per l’appunto\,  e l’ebbrezza che n
 e deriva e che da sempre[..]\nhttps://www.libriincantina.it/events/teatro-d
 ei-pazzi-ode-allebbrezza-e-al-vino/
URL:https://www.libriincantina.it/events/teatro-dei-pazzi-ode-allebbrezza-e-al-vino/
END:VEVENT
END:VCALENDAR