BEGIN:VCALENDAR
VERSION:2.0
PRODID:-//eventon.com NONSGML v1.0//EN
CALSCALE:GREGORIAN
METHOD:PUBLISH
BEGIN:VEVENT
UID:69e7654e3eda8
DTSTAMP:20260421T115350Z
DTSTART:20241006
DTEND:20241007
LOCATION:Cantine Collalto Via 24 maggio 1
SUMMARY:Degustazioni\,  passeggiate in vigna\,  visite guidate alla cantina\,  aperitivo km 0
DESCRIPTION:Degustazioni\,  passeggiate in vigna\,  visite guidate alla can
 tina\,  aperitivo km 0 su prenotazione su www.cantine-collalto.it\nhttps:/
 /www.libriincantina.it/events/degustazioni-passeggiate-in-vigna-visite-guid
 ate-alla-cantina-aperitivo-km-0/
URL:https://www.libriincantina.it/events/degustazioni-passeggiate-in-vigna-visite-guidate-alla-cantina-aperitivo-km-0/
END:VEVENT
END:VCALENDAR