BEGIN:VCALENDAR
VERSION:2.0
PRODID:-//eventon.com NONSGML v1.0//EN
CALSCALE:GREGORIAN
METHOD:PUBLISH
BEGIN:VEVENT
UID:69e5ec43c87d6
DTSTAMP:20260420T090507Z
DTSTART:20241005T153000Z
DTEND:20241005T163000Z
LOCATION:Cantine Collalto Via 24 maggio 1
SUMMARY:Giulia Ceirano\,  "La letteratura in cucina"
DESCRIPTION:Giulia Ceirano a Libri in Cantina per presentare il suo libro L
 a letteratura in cucina\,  illustrato da Lida Ziruffo\,  edito da Hoppipoll
 a Edizioni\,  progetto di cultura indipendente. A cura di Barbara Codogno. 
 Come si preparano i muffin al limone che aspettavano l’arrivo di Daisy ne
 lla dispensa del Grande Gatsby? Quali[..]\nhttps://www.libriincantina.it/ev
 ents/giulia-ceirano-la-letteratura-in-cucina/
URL:https://www.libriincantina.it/events/giulia-ceirano-la-letteratura-in-cucina/
END:VEVENT
END:VCALENDAR