BEGIN:VCALENDAR
VERSION:2.0
PRODID:-//eventon.com NONSGML v1.0//EN
CALSCALE:GREGORIAN
METHOD:PUBLISH
BEGIN:VEVENT
UID:69e765c75a8e1
DTSTAMP:20260421T115551Z
DTSTART:20241005T120000Z
DTEND:20241005T140000Z
LOCATION:Cantine Collalto Via 24 maggio 1
SUMMARY:Fabulism con Giulia Pozzi e Mirko Andolina
DESCRIPTION:Fabulism con Giulia Pozzi e Mirko Andolina. Fabulism è uno st
 udio di progettazione sperimentale con sede a Berlino che opera all&#8217;i
 ntersezione tra architettura\,  paesaggio e urbanistica. La loro ricerca è
  incentrata sui processi di adattamento dello spazio ai cambiamenti climati
 ci\,  sociali ed economici. La ricerca di Fabulism si muove in modo[..]\nht
 tps://www.libriincantina.it/events/arch-talk-ensemble-studio-con-anton-garc
 ia-abril-e-debora-mesa/
URL:https://www.libriincantina.it/events/arch-talk-ensemble-studio-con-anton-garcia-abril-e-debora-mesa/
END:VEVENT
END:VCALENDAR