BEGIN:VCALENDAR
VERSION:2.0
PRODID:-//eventon.com NONSGML v1.0//EN
CALSCALE:GREGORIAN
METHOD:PUBLISH
BEGIN:VEVENT
UID:69e7662cc3dd4
DTSTAMP:20260421T115732Z
DTSTART:20241006T153000Z
DTEND:20241006T163000Z
LOCATION:Sala dei Castelli
SUMMARY:Marzio Breda "Il nemico di Mussolini"
DESCRIPTION:Marzio Breda per la prima volta a Libri in Cantina presenta il 
 suo libro Il nemico di Mussolini\,  edito da Solferino\,  introdotto da Dan
 iele Ferrazza L’assassinio di Giacomo Matteotti il 10 giugno 1924 segna l
 ’inizio della parabola più sanguinosa e totalitaria del fascismo eppure\
 ,  a cento anni di distanza dai[..]\nhttps://www.libriincantina.it/events/m
 arzio-breda-il-nemico-di-mussolini/
URL:https://www.libriincantina.it/events/marzio-breda-il-nemico-di-mussolini/
END:VEVENT
END:VCALENDAR