BEGIN:VCALENDAR
VERSION:2.0
PRODID:-//eventon.com NONSGML v1.0//EN
CALSCALE:GREGORIAN
METHOD:PUBLISH
BEGIN:VEVENT
UID:69e7668095be9
DTSTAMP:20260421T115856Z
DTSTART:20241006T153000Z
DTEND:20241006T161500Z
LOCATION:Sala della Biblioteca
SUMMARY:"To(u)riolón. Cronache vagabonde" di Eros Viel
DESCRIPTION:Presentazione di To(u)riolón. Cronache vagabonde di Eros Viel
  a cura dell&#8217;autore. &#8220;To(u)riolón&#8221; è colui che va a zon
 zo\,  il girovago. Il libro raccoglie 19 storie brevi e intense che raccont
 ano di luoghi e persone incontrate per strada. La strada dell&#8217;amicizi
 a\,  dell&#8217;incontro\,  dello scambio di esperienze. Escursioni tra Ven
 eto e Friuli\,  a[..]\nhttps://www.libriincantina.it/events/touriolon-crona
 che-vagabonde-di-eros-viel/
URL:https://www.libriincantina.it/events/touriolon-cronache-vagabonde-di-eros-viel/
END:VEVENT
END:VCALENDAR