BEGIN:VCALENDAR
VERSION:2.0
PRODID:-//eventon.com NONSGML v1.0//EN
CALSCALE:GREGORIAN
METHOD:PUBLISH
BEGIN:VEVENT
UID:69e77bcf0932c
DTSTAMP:20260421T132951Z
DTSTART:20241006T150000Z
DTEND:20241006T154500Z
LOCATION:Sala dell'Angelo
SUMMARY:"Lagunario" di Isabella Panfido
DESCRIPTION:Presentazione di Lagunario di Isabella Panfido a cura di Andre
 a Mella. Il Lido\,  Murano\,  San Giorgio\,  Sant&#8217;Erasmo&#8230; Panfi
 do racconta 12 isole della Laguna Veneziana e per ognuna di esse offre una 
 mappa originale e poetica. Il suo andar per isole tende metaforicamente a u
 n punto focale che è Venezia\,  la metropoli[..]\nhttps://www.libriincanti
 na.it/events/lagunario-di-isabella-panfido/
URL:https://www.libriincantina.it/events/lagunario-di-isabella-panfido/
END:VEVENT
END:VCALENDAR