BEGIN:VCALENDAR
VERSION:2.0
PRODID:-//eventon.com NONSGML v1.0//EN
CALSCALE:GREGORIAN
METHOD:PUBLISH
BEGIN:VEVENT
UID:69e7664a95618
DTSTAMP:20260421T115802Z
DTSTART:20241006T143000Z
DTEND:20241006T151500Z
LOCATION:Studio del Principe
SUMMARY:"235 notti da numero Zero" di Massimo Spadetto
DESCRIPTION:Presentazione di 235 notti da numero Zero di Massimo Spadetto 
 a cura dell’editore Michael Edizioni. In una fredda notte nebbiosa nelle 
 campagne del Berkshire\,  circa sessanta miglia a ovest di Londra\,  viene 
 rinvenuto un cadavere senza documenti. Dopo i rilevamenti di rito viene tra
 sferito nella morgue della contea\,  a Newbury. L’ispettore[..]\nhttps://
 www.libriincantina.it/events/235-notti-da-numero-zero-di-massimo-spadetto/
URL:https://www.libriincantina.it/events/235-notti-da-numero-zero-di-massimo-spadetto/
END:VEVENT
END:VCALENDAR