BEGIN:VCALENDAR
VERSION:2.0
PRODID:-//eventon.com NONSGML v1.0//EN
CALSCALE:GREGORIAN
METHOD:PUBLISH
BEGIN:VEVENT
UID:69e76581bec82
DTSTAMP:20260421T115441Z
DTSTART:20241006T143000Z
DTEND:20241006T151500Z
LOCATION:Sala della Biblioteca
SUMMARY:"Terre del Prosecco" di Giampiero Rorato e Francesco Galifi
DESCRIPTION:Presentazione di Terre del Prosecco di Giampiero Rorato e Fran
 cesco Galifi a cura degli scrittori. Un percorso tra storia\,  arte ed enog
 astronomia per immergersi nelle terre del Prosecco\,  uniche al mondo e per
  questo patrimonio dell&#8217;universale dell&#8217;UNESCO. Dario De Bastia
 ni Editore\nhttps://www.libriincantina.it/events/terre-del-prosecco-di-giam
 piero-rorato-e-francesco-galifi/
URL:https://www.libriincantina.it/events/terre-del-prosecco-di-giampiero-rorato-e-francesco-galifi/
END:VEVENT
END:VCALENDAR