BEGIN:VCALENDAR
VERSION:2.0
PRODID:-//eventon.com NONSGML v1.0//EN
CALSCALE:GREGORIAN
METHOD:PUBLISH
BEGIN:VEVENT
UID:69e7662c4e370
DTSTAMP:20260421T115732Z
DTSTART:20241006T140000Z
DTEND:20241006T144500Z
LOCATION:Sala dell'Angelo
SUMMARY:"I Sergi-Castropola-Pola (secoli XII-XXI)" di Giacinto Cecchetto
DESCRIPTION:Presentazione di I Sergi-Castropola-Pola (secoli XII-XXI). Stor
 ia di una famiglia dall’Istria a Treviso e la germinazione di un ramo fam
 igliare in Boemia\,  all’inizio del secolo XVII di Giacinto Cecchetto a c
 ura del dott. Leonardo Sernagiotto\,  storico e medievista. Sino ad oggi no
 n esisteva una ricostruzione della complessa vicenda vissuta\,  fra[..]\nht
 tps://www.libriincantina.it/events/i-sergi-castropola-pola-secoli-xii-xxi-d
 i-giacinto-cecchetto/
URL:https://www.libriincantina.it/events/i-sergi-castropola-pola-secoli-xii-xxi-di-giacinto-cecchetto/
END:VEVENT
END:VCALENDAR