BEGIN:VCALENDAR
VERSION:2.0
PRODID:-//eventon.com NONSGML v1.0//EN
CALSCALE:GREGORIAN
METHOD:PUBLISH
BEGIN:VEVENT
UID:69e765ba8e399
DTSTAMP:20260421T115538Z
DTSTART:20241006T133000Z
DTEND:20241006T141500Z
LOCATION:Studio del Principe
SUMMARY:"Trevigiani a Susegana"
DESCRIPTION:Presentazione di L’ultima eclissi del millennio di Stefano Ma
 sini Chi e che cosa è stato Unabomber? Chi si nasconde dietro l’emulazio
 ne italiana delle gesta esplosive dell’americano arrestato dall’Fbi nel
  1996\,  dopo 18 anni di attentati\,  con tre morti e 23 feriti? Una rispos
 ta immaginaria la dà questo romanzo “on the[..]\nhttps://www.libriincant
 ina.it/events/lultima-eclissi-del-millennio-di-stefano-masini-e-cinquanta-e
 -cinquanta-di-david-de-vallier/
URL:https://www.libriincantina.it/events/lultima-eclissi-del-millennio-di-stefano-masini-e-cinquanta-e-cinquanta-di-david-de-vallier/
END:VEVENT
END:VCALENDAR