BEGIN:VCALENDAR
VERSION:2.0
PRODID:-//eventon.com NONSGML v1.0//EN
CALSCALE:GREGORIAN
METHOD:PUBLISH
BEGIN:VEVENT
UID:69e7662842189
DTSTAMP:20260421T115728Z
DTSTART:20241006T133000Z
DTEND:20241006T141500Z
LOCATION:Sala della Biblioteca
SUMMARY:"Viaggiare a remi tra Venezia e le idrovie del Nord Italia" di Luana Castelli
DESCRIPTION:Presentazione di Viaggiare a remi tra Venezia e le idrovie del 
 Nord Italia di Luana Castelli a cura della scrittrice e Marco Trevisan. Una
  pratica guida per chi ama la voga\,  accompagnato da un appassionante diar
 io di bordo sui viaggi fatti da un gruppo tutto al femminile: &#8221;Un Po 
 di[..]\nhttps://www.libriincantina.it/events/viaggiare-a-remi-tra-venezia-e
 -le-idrovie-del-nord-italia-di-luana-castelli/
URL:https://www.libriincantina.it/events/viaggiare-a-remi-tra-venezia-e-le-idrovie-del-nord-italia-di-luana-castelli/
END:VEVENT
END:VCALENDAR