BEGIN:VCALENDAR
VERSION:2.0
PRODID:-//eventon.com NONSGML v1.0//EN
CALSCALE:GREGORIAN
METHOD:PUBLISH
BEGIN:VEVENT
UID:69e7664790fbb
DTSTAMP:20260421T115759Z
DTSTART:20241006T130000Z
DTEND:20241006T134500Z
LOCATION:Sala dell'Angelo
SUMMARY:"Utopia Giudecca" curato da Corrado Poli
DESCRIPTION:Presentazione di Utopia Giudecca curato da Corrado Poli alla p
 resenza del curatore e di Emilio Antoniol. “L’utopia ha due aspetti: è
  la critica di ciò che è\,  e la rappresentazione di ciò che dovrebbe es
 sere. La sua importanza è racchiusa essenzialmente nel primo momento. Dai 
 desideri di un uomo si può[..]\nhttps://www.libriincantina.it/events/utopi
 a-giudecca-curato-da-corrado-poli/
URL:https://www.libriincantina.it/events/utopia-giudecca-curato-da-corrado-poli/
END:VEVENT
END:VCALENDAR