BEGIN:VCALENDAR
VERSION:2.0
PRODID:-//eventon.com NONSGML v1.0//EN
CALSCALE:GREGORIAN
METHOD:PUBLISH
BEGIN:VEVENT
UID:69e77c127a5bc
DTSTAMP:20260421T133058Z
DTSTART:20241006T083000Z
DTEND:20241006T093000Z
LOCATION:Sala dei Castelli
SUMMARY:Alfredo Stoppa "Il fascino delle storie"  |  Alessandra Biasi "Ti farò crescere"
DESCRIPTION:Alfredo Stoppa per presentare il suo libro Il circo maldestri. 
 È importante che gli adulti capiscano il valore di condividere una storia\
 ,  una voce narrante è capace di trasmettere emozioni\,  curiosità e sens
 o dell&#8217;avventura a chi ascolta. Le storie sono sbalordimento\,  merav
 iglia per tutto ciò che va oltre il nostro[..]\nhttps://www.libriincantina
 .it/events/alfredo-stoppa-il-fascino-delle-storie-alessandra-biasi-ti-faro-
 crescere/
URL:https://www.libriincantina.it/events/alfredo-stoppa-il-fascino-delle-storie-alessandra-biasi-ti-faro-crescere/
END:VEVENT
END:VCALENDAR