BEGIN:VCALENDAR
VERSION:2.0
PRODID:-//eventon.com NONSGML v1.0//EN
CALSCALE:GREGORIAN
METHOD:PUBLISH
BEGIN:VEVENT
UID:69e7669b2113d
DTSTAMP:20260421T115923Z
DTSTART:20241006T123000Z
DTEND:20241006T131500Z
LOCATION:Sala della Biblioteca
SUMMARY:"La Chiave di Sophia: sulla libertà"
DESCRIPTION:Presentazione di La Chiave di Sophia: sulla libertà a cura di
  Giorgia Favero e Anna Castagna. Presentazione del nuovo numero della rivis
 ta filosofica La chiave di Sophia dedicata al tema della libertà. Quali so
 no gli ostacoli all’esercizio della mia libertà\,  tolti i quali il sogg
 etto in questione può intendersi effettivamente libero?[..]\nhttps://www.l
 ibriincantina.it/events/la-chiave-di-sophia-sulla-liberta/
URL:https://www.libriincantina.it/events/la-chiave-di-sophia-sulla-liberta/
END:VEVENT
END:VCALENDAR