BEGIN:VCALENDAR
VERSION:2.0
PRODID:-//eventon.com NONSGML v1.0//EN
CALSCALE:GREGORIAN
METHOD:PUBLISH
BEGIN:VEVENT
UID:69e77b64cd636
DTSTAMP:20260421T132804Z
DTSTART:20241006T100000Z
DTEND:20241006T104500Z
LOCATION:Sala della Biblioteca
SUMMARY:"Detti e aforismi popolari siciliani" di Francesca Barraco
DESCRIPTION:Presentazione di Detti e aforismi popolari siciliani di Frances
 ca Barraco a cura di Silvio Canavese e Alice Jerep. Una raccolta di sinteti
 che\,  coagulate\,  graffianti e potenti immagini della Saggezza Popolare\,
   che si estendono inossidabili attraverso lo scorrere del tempo e il susse
 guirsi delle generazioni. Keltia Editrice\nhttps://www.libriincantina.it/ev
 ents/aforismi-detti-popolari-siciliani-di-francesca-barraco/
URL:https://www.libriincantina.it/events/aforismi-detti-popolari-siciliani-di-francesca-barraco/
END:VEVENT
END:VCALENDAR