BEGIN:VCALENDAR
VERSION:2.0
PRODID:-//eventon.com NONSGML v1.0//EN
CALSCALE:GREGORIAN
METHOD:PUBLISH
BEGIN:VEVENT
UID:69e76660d5724
DTSTAMP:20260421T115824Z
DTSTART:20241006T093000Z
DTEND:20241006T101500Z
LOCATION:Sala dell'Angelo
SUMMARY:"Lo specchio delle muse" di Michele Santuliana\,  Marta Scaccia e Paola Valente
DESCRIPTION:Presentazione di Lo specchio delle muse di Michele Santuliana\
 ,  Marta Scaccia e Paola Valente a cura di Saveria Chemotti. Una fanciulla 
 che sfida la divinità in una gara estrema quanto disperata\,  un titano co
 ndannato ad atroci supplizi fra le rocce del Caucaso\,  una madre furibonda
  alla ricerca della figlia scomparsa\,  una[..]\nhttps://www.libriincantina
 .it/events/lo-specchio-delle-muse-di-michele-santuliana-marta-scaccia-e-pao
 la-valente/
URL:https://www.libriincantina.it/events/lo-specchio-delle-muse-di-michele-santuliana-marta-scaccia-e-paola-valente/
END:VEVENT
END:VCALENDAR