BEGIN:VCALENDAR
VERSION:2.0
PRODID:-//eventon.com NONSGML v1.0//EN
CALSCALE:GREGORIAN
METHOD:PUBLISH
BEGIN:VEVENT
UID:69e77cf28c21a
DTSTAMP:20260421T133442Z
DTSTART:20241006T143000Z
DTEND:20241006T160000Z
LOCATION:Chiesa del Carmine
SUMMARY:Concerto di musica da camera con Marina Miani\,  Claudia Lapolla e Luca Talassi
DESCRIPTION:Il trio nel primo Novecento italiano e russo: ore 16.30\,  Clem
 enti/Casella\,  Trio in re maggiore op. 28 n. 2 per violino\,  violoncello 
 e pianoforte Allegro amabile Polonese: Un poco andante Rondò: Molto vivace
  ore 17.00\,  D. Shostakovich\,  Trio n. 1 in do minore op. 8 per violino\,
   violoncello e pianoforte[..]\nhttps://www.libriincantina.it/events/concer
 to-di-musica-da-camera-con-marina-miani-claudia-lapolla-e-luca-talassi/
URL:https://www.libriincantina.it/events/concerto-di-musica-da-camera-con-marina-miani-claudia-lapolla-e-luca-talassi/
END:VEVENT
END:VCALENDAR