BEGIN:VCALENDAR
VERSION:2.0
PRODID:-//eventon.com NONSGML v1.0//EN
CALSCALE:GREGORIAN
METHOD:PUBLISH
BEGIN:VEVENT
UID:69e7669b2109b
DTSTAMP:20260421T115923Z
DTSTART:20241006T090000Z
DTEND:20241006T110000Z
LOCATION:Chiesa del Carmine
SUMMARY:Concerto di musica da camera con Marina Miani e Claudia Lapolla
DESCRIPTION:Il duo violino / pianoforte nel periodo classico: ore 11.00\,  
 W.A. Mozart Sonata in si bemolle maggiore KV 454 per pianoforte e violino L
 argo &#8211; Allegro Andantino Allegretto ore 12.00\,  L.van Beethoven Sona
 ta in fa maggiore op. 24 “La Primavera” per violino e pianoforte Allegr
 o Adagio molto espressivo Scherzo (Allegro[..]\nhttps://www.libriincantina.
 it/events/concerto-di-musica-da-camera-con-marina-miani-e-claudia-lapolla/
URL:https://www.libriincantina.it/events/concerto-di-musica-da-camera-con-marina-miani-e-claudia-lapolla/
END:VEVENT
END:VCALENDAR