BEGIN:VCALENDAR
VERSION:2.0
PRODID:-//eventon.com NONSGML v1.0//EN
CALSCALE:GREGORIAN
METHOD:PUBLISH
BEGIN:VEVENT
UID:69e7668207773
DTSTAMP:20260421T115858Z
DTSTART:20241006T090000Z
DTEND:20241006T094500Z
LOCATION:Studio del Principe
SUMMARY:"Il lungo viaggio di Rondino" di Claudio Pietrobon e "Il vestito a fiori" di Giancarlo Acerbi
DESCRIPTION:Presentazione di Il lungo viaggio di Rondino di Claudio Pietrob
 on All’indomani dell’elezione al soglio pontificio nel 1198\,  Papa Inn
 ocenzo III coinvolge la cristianità per la quarta crociata. L’iniziativa
  non può fare a meno della flotta di Venezia per inviare un numeroso eserc
 ito a Gerusalemme. Nel tragitto verso la città santa\, [..]\nhttps://www.l
 ibriincantina.it/events/il-lungo-viaggio-di-rondino-di-claudio-pietrobon-e-
 il-vestito-a-fiori-di-giancarlo-acerbi/
URL:https://www.libriincantina.it/events/il-lungo-viaggio-di-rondino-di-claudio-pietrobon-e-il-vestito-a-fiori-di-giancarlo-acerbi/
END:VEVENT
END:VCALENDAR