BEGIN:VCALENDAR
VERSION:2.0
PRODID:-//eventon.com NONSGML v1.0//EN
CALSCALE:GREGORIAN
METHOD:PUBLISH
BEGIN:VEVENT
UID:69e76645cea82
DTSTAMP:20260421T115757Z
DTSTART:20241006T090000Z
DTEND:20241006T094500Z
LOCATION:Sala della Biblioteca
SUMMARY:"La voce segreta del mare" di Diana Lorena Camerini
DESCRIPTION:Presentazione di La voce segreta del mare di Diana Lorena Came
 rini a cura di Lisa Marra con letture di Franca Grimaldi. Ligheia ha la pas
 sione della pittura e diventa presto un’artista affermata. A poco più di
  vent’anni\,  durante un viaggio ha un incontro speciale che le fa scopri
 re un aspetto sconosciuto[..]\nhttps://www.libriincantina.it/events/la-voce
 -segreta-del-mare-di-diana-lorena-camerini/
URL:https://www.libriincantina.it/events/la-voce-segreta-del-mare-di-diana-lorena-camerini/
END:VEVENT
END:VCALENDAR