BEGIN:VCALENDAR
VERSION:2.0
PRODID:-//eventon.com NONSGML v1.0//EN
CALSCALE:GREGORIAN
METHOD:PUBLISH
BEGIN:VEVENT
UID:69e765ba5fdaf
DTSTAMP:20260421T115538Z
DTSTART:20241005T190000Z
DTEND:20241005T210000Z
LOCATION:Chiesa del Carmine
SUMMARY:“Mus#aico Slow Motion” - La musica prende forma". Concerto della Compagnia Musicale “La Meridiana”
DESCRIPTION:Un Mus#aico di brani\,  con i quali come tante tessere\,  La Co
 mpagnia Musicale La Meridiana compone per lo spettatore una serata colorata
  con musica fatta di nuova vita e nuove sfumature. Tessere che toccano emoz
 ioni e ricordi che\,  con armonie variopinte\,  portano lo spettatore a com
 piere un volo tra la[..]\nhttps://www.libriincantina.it/events/musaico-slow
 -motion-la-musica-prende-forma-concerto-della-compagnia-musicale-la-meridia
 na/
URL:https://www.libriincantina.it/events/musaico-slow-motion-la-musica-prende-forma-concerto-della-compagnia-musicale-la-meridiana/
END:VEVENT
END:VCALENDAR