BEGIN:VCALENDAR
VERSION:2.0
PRODID:-//eventon.com NONSGML v1.0//EN
CALSCALE:GREGORIAN
METHOD:PUBLISH
BEGIN:VEVENT
UID:69e765dca97cc
DTSTAMP:20260421T115612Z
DTSTART:20241005T163000Z
DTEND:20241005T171500Z
LOCATION:Sala della Biblioteca
SUMMARY:"Prosecco e Malvasia" di Sandro Delton e "Andar per funghi. E non solo" di Luigino Bravin
DESCRIPTION:Presentazione di Prosecco e Malvasia di Sandro Delton Elegante 
 e solare\,  Rossella ha studiato Belle Arti a Venezia. Nella città dai mil
 le colori\,  in uno di quei pomeriggi spensierati\,  conosce Marco e per en
 trambi è amore a prima vista. Finite le superiori e l’università\,  con
 dividono una splendida amicizia con Greta\, [..]\nhttps://www.libriincantin
 a.it/events/prosecco-e-malvasia-di-sandro-delton-e-andar-per-funghi-e-non-s
 olo-di-luigino-bravin/
URL:https://www.libriincantina.it/events/prosecco-e-malvasia-di-sandro-delton-e-andar-per-funghi-e-non-solo-di-luigino-bravin/
END:VEVENT
END:VCALENDAR