BEGIN:VCALENDAR
VERSION:2.0
PRODID:-//eventon.com NONSGML v1.0//EN
CALSCALE:GREGORIAN
METHOD:PUBLISH
BEGIN:VEVENT
UID:69e765bc03cea
DTSTAMP:20260421T115540Z
DTSTART:20241005T160000Z
DTEND:20241005T164500Z
LOCATION:Sala dell'Angelo
SUMMARY:"Una tragedia della Resistenza italiana. Monte Grappa\,  settembre 1944" di Egidio Ceccato
DESCRIPTION:Presentazione di Una tragedia della Resistenza italiana. Monte 
 Grappa\,  settembre 1944 di Egidio Ceccato a cura di Emilia Peatini. La tra
 gedia del settembre 1944 si spiega con le pressioni esercitate dagli Alleat
 i sui partigiani perché mantenessero le posizioni occupate sul Grappa e os
 tacolassero la ritirata tedesca\,  data per imminente\,  lungo[..]\nhttps:/
 /www.libriincantina.it/events/una-tragedia-della-resistenza-italiana-monte-
 grappa-settembre-1944-di-egidio-ceccato/
URL:https://www.libriincantina.it/events/una-tragedia-della-resistenza-italiana-monte-grappa-settembre-1944-di-egidio-ceccato/
END:VEVENT
END:VCALENDAR