BEGIN:VCALENDAR
VERSION:2.0
PRODID:-//eventon.com NONSGML v1.0//EN
CALSCALE:GREGORIAN
METHOD:PUBLISH
BEGIN:VEVENT
UID:69e76580991ae
DTSTAMP:20260421T115440Z
DTSTART:20241005T153000Z
DTEND:20241005T161500Z
LOCATION:Studio del Principe
SUMMARY:"L’Altana. La dolce vita di Venezia 1899- 1924" di Henri de Régnier
DESCRIPTION:Presentazione di L’Altana. La dolce vita di Venezia 1899-1924
  di Henri de Régnier a cura del traduttore Bruno Longo. “La bellezza di 
 Venezia è un tema di rara ricchezza e ciascuno lo modula seguendo il propr
 io virtuosismo”. Henri de Régnier arriva per la prima volta a Venezia ne
 l 1899 e[..]\nhttps://www.libriincantina.it/events/laltana-la-dolce-vita-di
 -venezia-1899-1924-di-henri-de-regnier/
URL:https://www.libriincantina.it/events/laltana-la-dolce-vita-di-venezia-1899-1924-di-henri-de-regnier/
END:VEVENT
END:VCALENDAR