BEGIN:VCALENDAR
VERSION:2.0
PRODID:-//eventon.com NONSGML v1.0//EN
CALSCALE:GREGORIAN
METHOD:PUBLISH
BEGIN:VEVENT
UID:69e76523d3d7e
DTSTAMP:20260421T115307Z
DTSTART:20241005T153000Z
DTEND:20241005T161500Z
LOCATION:Sala della Biblioteca
SUMMARY:"L’Espacio Escultorico e il paesaggio del Pedregal de San Angelo\,  Messico" curato da Patrizia Boschiero e Luigi Latini
DESCRIPTION:Presentazione di L’Espacio Escultorico e il paesaggio del Ped
 regal de San Angelo\,  Messico curato da Patrizia Boschiero e Luigi Latini.
  Premio Internazionale Carlo Scarpa per il Giardino. Presentazione a cura d
 i Mario Lupano\,  storico e critico dell’architettura\,  Università Iuav
  di Venezia; gli autori Luigi Latini\,  architetto paesaggista\,  direttore
  della Fondazione[..]\nhttps://www.libriincantina.it/events/lespacio-escult
 orico-e-il-paesaggio-del-pedregal-de-san-angelo-messico-curato-da-patrizia-
 boschiero-e-luigi-latini/
URL:https://www.libriincantina.it/events/lespacio-escultorico-e-il-paesaggio-del-pedregal-de-san-angelo-messico-curato-da-patrizia-boschiero-e-luigi-latini/
END:VEVENT
END:VCALENDAR