BEGIN:VCALENDAR
VERSION:2.0
PRODID:-//eventon.com NONSGML v1.0//EN
CALSCALE:GREGORIAN
METHOD:PUBLISH
BEGIN:VEVENT
UID:69e765c6d4590
DTSTAMP:20260421T115550Z
DTSTART:20241005T150000Z
DTEND:20241005T154500Z
LOCATION:Sala dell'Angelo
SUMMARY:"I Ladini fra tedeschi e italiani" di Luciana Palla
DESCRIPTION:Presentazione di I Ladini fra tedeschi e italiani di Luciana P
 alla a cura dell&#8217;autrice. Una piccola comunità ladina nelle Dolomiti
 \,  annessa all’Italia nel 1918\,  si trova nella necessità di legittima
 re la propria identità etno-linguistica entro i confini del nuovo Stato. R
 ipetuto è nel tempo il tentativo di definire se stessi\,  né[..]\nhttps:/
 /www.libriincantina.it/events/i-ladini-fra-tedeschi-e-italiani-di-luciana-p
 alla/
URL:https://www.libriincantina.it/events/i-ladini-fra-tedeschi-e-italiani-di-luciana-palla/
END:VEVENT
END:VCALENDAR