BEGIN:VCALENDAR
VERSION:2.0
PRODID:-//eventon.com NONSGML v1.0//EN
CALSCALE:GREGORIAN
METHOD:PUBLISH
BEGIN:VEVENT
UID:69e766471170c
DTSTAMP:20260421T115759Z
DTSTART:20241005T143000Z
DTEND:20241005T151500Z
LOCATION:Sala della Biblioteca
SUMMARY:"Dolomiti Backpacking. Guida pratica" di Andrea Rizzato
DESCRIPTION:Presentazione di Dolomiti Backpacking. Guida pratica di Andrea
  Rizzato a cura di Michela Antiga. Stai pensando di preparare lo zaino e pa
 rtire per un trekking di più giorni nelle Dolomiti\,  ma non sai esattamen
 te cosa metterci dentro e come prepararti nel modo migliore? Non conosci le
  tecniche del backpacking\,  il territorio\, [..]\nhttps://www.libriincanti
 na.it/events/dolomiti-backpacking-guida-pratica-di-andrea-rizzato/
URL:https://www.libriincantina.it/events/dolomiti-backpacking-guida-pratica-di-andrea-rizzato/
END:VEVENT
END:VCALENDAR