BEGIN:VCALENDAR
VERSION:2.0
PRODID:-//eventon.com NONSGML v1.0//EN
CALSCALE:GREGORIAN
METHOD:PUBLISH
BEGIN:VEVENT
UID:69e7662b45a57
DTSTAMP:20260421T115731Z
DTSTART:20241005T140000Z
DTEND:20241005T144500Z
LOCATION:Sala dell'Angelo
SUMMARY:"Algoritmi indiani" di Laila Wadia
DESCRIPTION:Presentazione di Algoritmi indiani di Laila Wadia a cura di Pa
 trizia Saina. La parola alle donne per descrivere l’India moderna\,  con 
 i suoi incantesimi e i suoi problemi\,  lontano dagli stereotipi di miseria
  e di sottomissione\,  senza  nascondere la ferocia di scontri etnici\,  e
 conomici e generazionali. La storia viene raccontata dalla[..]\nhttps://www
 .libriincantina.it/events/algoritmi-indiani-di-laila-waida/
URL:https://www.libriincantina.it/events/algoritmi-indiani-di-laila-waida/
END:VEVENT
END:VCALENDAR