BEGIN:VCALENDAR
VERSION:2.0
PRODID:-//eventon.com NONSGML v1.0//EN
CALSCALE:GREGORIAN
METHOD:PUBLISH
BEGIN:VEVENT
UID:69e766be48496
DTSTAMP:20260421T115958Z
DTSTART:20241005T160000Z
DTEND:20241005T164500Z
LOCATION:Sala dei Castelli
SUMMARY:Luca Zaia "Fa’ presto vai piano. La vita è un viaggio passo a passo"
DESCRIPTION:Luca Zaia torna a Libri in Cantina per parlare del suo libro Fa
 ’ presto vai piano. La vita è un viaggio passo a passo. A metà degli an
 ni ottanta Luca Zaia era un diciottenne che si affacciava alla vita senza m
 ai aver messo piede fuori dalla provincia. Forte dei suoi[..]\nhttps://www.
 libriincantina.it/events/luca-zaia-fa-presto-vai-piano-la-vita-e-un-viaggio
 -passo-a-passo/
URL:https://www.libriincantina.it/events/luca-zaia-fa-presto-vai-piano-la-vita-e-un-viaggio-passo-a-passo/
END:VEVENT
END:VCALENDAR