BEGIN:VCALENDAR
VERSION:2.0
PRODID:-//eventon.com NONSGML v1.0//EN
CALSCALE:GREGORIAN
METHOD:PUBLISH
BEGIN:VEVENT
UID:69e77e08a1db6
DTSTAMP:20260421T133920Z
DTSTART:20241005T133000Z
DTEND:20241005T141500Z
LOCATION:Studio del Principe
SUMMARY:"Spazi per una vita lenta" curato da Rosaria Revellini
DESCRIPTION:Presentazione di Spazi per una vita lenta curato da Rosaria Rev
 ellini a cura dell&#8217;autrice\,  vicedirettrice di “Officina”\,  e d
 i Emilio Antoniol. Officina* 44 riflette su come progettare le città\,  le
  abitazioni\,  gli spazi della socialità “a misura di età” raccoglien
 do contributi che spaziano dalla grande alla piccola scala: partendo dalla[
 ..]\nhttps://www.libriincantina.it/events/spazi-per-una-vita-lenta-curato-d
 a-rosaria-revellini/
URL:https://www.libriincantina.it/events/spazi-per-una-vita-lenta-curato-da-rosaria-revellini/
END:VEVENT
END:VCALENDAR