BEGIN:VCALENDAR
VERSION:2.0
PRODID:-//eventon.com NONSGML v1.0//EN
CALSCALE:GREGORIAN
METHOD:PUBLISH
BEGIN:VEVENT
UID:69e766f93ec41
DTSTAMP:20260421T120057Z
DTSTART:20241005T133000Z
DTEND:20241005T141500Z
LOCATION:Sala della Biblioteca
SUMMARY:"Riscoprire il monte Grappa" di Giovanni Carraro
DESCRIPTION:Presentazione di Riscoprire il monte Grappa di Giovanni Carrar
 o a cura dell&#8217;autore. Nella guida il massiccio viene suddiviso in tre
  settori (sud-orientale\,  sud-occidentale e settentrionale) dove vengono d
 escritti 42 itinerari e 74 varianti\,  per un totale di 626 km\,  dalla sem
 plice passeggiata di fondovalle\,  alle avventurose vie ferrate su ripide p
 areti.[..]\nhttps://www.libriincantina.it/events/riscoprire-il-monte-grappa
 -di-giovanni-carraro/
URL:https://www.libriincantina.it/events/riscoprire-il-monte-grappa-di-giovanni-carraro/
END:VEVENT
END:VCALENDAR