BEGIN:VCALENDAR
VERSION:2.0
PRODID:-//eventon.com NONSGML v1.0//EN
CALSCALE:GREGORIAN
METHOD:PUBLISH
BEGIN:VEVENT
UID:69e765786ef0b
DTSTAMP:20260421T115432Z
DTSTART:20241005T130000Z
DTEND:20241005T134500Z
LOCATION:Sala dell'Angelo
SUMMARY:"Il cuore soffoca" di Teresa Wilms Montt
DESCRIPTION:Presentazione di Il cuore soffoca di Teresa Wilms Montt a cura
  di Alessandra Pelizzaro e Silvia Amalia Di Cocco. Il cuore soffoca è la p
 rima raccolta in italiano delle opere di Teresa Wilms Montt\,  una delle pi
 ù grandi poetesse del Novecento ispano-americano. Gli scritti di Teresa Wi
 lms sono l’intimo sfogo di[..]\nhttps://www.libriincantina.it/events/il-c
 uore-soffoca-di-teresa-wilms-monnt/
URL:https://www.libriincantina.it/events/il-cuore-soffoca-di-teresa-wilms-monnt/
END:VEVENT
END:VCALENDAR