BEGIN:VCALENDAR
VERSION:2.0
PRODID:-//eventon.com NONSGML v1.0//EN
CALSCALE:GREGORIAN
METHOD:PUBLISH
BEGIN:VEVENT
UID:69e765786e9af
DTSTAMP:20260421T115432Z
DTSTART:20241005T120000Z
DTEND:20241005T124500Z
LOCATION:Sala dell'Angelo
SUMMARY:"Mezzo litro di latte. La parola ai testimoni e alle vittime dell’amianto" di Giacinto Bevilacqua
DESCRIPTION:Presentazione di Mezzo litro di latte. La parola ai testimoni e
  alle vittime dell’amianto di Giacinto Bevilacqua a cura dell&#8217;autor
 e. Mezzo litro di latte al giorno era l’antidoto somministrato agli opera
 i che\,  nello svolgere la propria mansione\,  venivano a contatto continuo
  con la polvere di amianto. Si pensava che bastasse[..]\nhttps://www.librii
 ncantina.it/events/mezzo-litro-di-latte-la-parola-ai-testimoni-e-alle-vitti
 me-dellamianto-di-giacinto-bevilacqua/
URL:https://www.libriincantina.it/events/mezzo-litro-di-latte-la-parola-ai-testimoni-e-alle-vittime-dellamianto-di-giacinto-bevilacqua/
END:VEVENT
END:VCALENDAR